BEGIN:VCALENDAR
VERSION:2.0
PRODID:-//Timber Creek Golf - ECPv6.15.18//NONSGML v1.0//EN
CALSCALE:GREGORIAN
METHOD:PUBLISH
X-WR-CALNAME:Timber Creek Golf
X-ORIGINAL-URL:https://www.timbercreek-dixon.com
X-WR-CALDESC:Events for Timber Creek Golf
REFRESH-INTERVAL;VALUE=DURATION:PT1H
X-Robots-Tag:noindex
X-PUBLISHED-TTL:PT1H
BEGIN:VTIMEZONE
TZID:UTC
BEGIN:STANDARD
TZOFFSETFROM:+0000
TZOFFSETTO:+0000
TZNAME:UTC
DTSTART:20230101T000000
END:STANDARD
END:VTIMEZONE
BEGIN:VEVENT
DTSTART;TZID=UTC:20250716T080000
DTEND;TZID=UTC:20250716T170000
DTSTAMP:20260425T184553
CREATED:20250716T221032Z
LAST-MODIFIED:20250716T221045Z
UID:10000024-1752652800-1752685200@www.timbercreek-dixon.com
SUMMARY:2025 Events
DESCRIPTION:
URL:https://www.timbercreek-dixon.com/event/382/
END:VEVENT
BEGIN:VEVENT
DTSTART;TZID=UTC:20240928T100000
DTEND;TZID=UTC:20240928T110000
DTSTAMP:20260425T184553
CREATED:20240409T154259Z
LAST-MODIFIED:20240409T154259Z
UID:10000023-1727517600-1727521200@www.timbercreek-dixon.com
SUMMARY:Outwork Elite Outing
DESCRIPTION:
URL:https://www.timbercreek-dixon.com/event/outwork-elite-outing/
END:VEVENT
BEGIN:VEVENT
DTSTART;TZID=UTC:20240919T090000
DTEND;TZID=UTC:20240919T150000
DTSTAMP:20260425T184553
CREATED:20240409T154207Z
LAST-MODIFIED:20240409T154207Z
UID:10000022-1726736400-1726758000@www.timbercreek-dixon.com
SUMMARY:Fireman Outing
DESCRIPTION:
URL:https://www.timbercreek-dixon.com/event/fireman-outing/
END:VEVENT
BEGIN:VEVENT
DTSTART;TZID=UTC:20240906T100000
DTEND;TZID=UTC:20240906T150000
DTSTAMP:20260425T184553
CREATED:20240409T154118Z
LAST-MODIFIED:20240409T154118Z
UID:10000021-1725616800-1725634800@www.timbercreek-dixon.com
SUMMARY:Birdies for Boobies
DESCRIPTION:
URL:https://www.timbercreek-dixon.com/event/birdies-for-boobies/
END:VEVENT
BEGIN:VEVENT
DTSTART;TZID=UTC:20240831T090000
DTEND;TZID=UTC:20240831T150000
DTSTAMP:20260425T184553
CREATED:20240409T154027Z
LAST-MODIFIED:20240409T154027Z
UID:10000020-1725094800-1725116400@www.timbercreek-dixon.com
SUMMARY:W&F (Kutz) Outing
DESCRIPTION:
URL:https://www.timbercreek-dixon.com/event/wf-kutz-outing/
END:VEVENT
BEGIN:VEVENT
DTSTART;TZID=UTC:20240830T100000
DTEND;TZID=UTC:20240830T150000
DTSTAMP:20260425T184553
CREATED:20240409T153923Z
LAST-MODIFIED:20240409T153923Z
UID:10000019-1725012000-1725030000@www.timbercreek-dixon.com
SUMMARY:Dixon Police Outing
DESCRIPTION:
URL:https://www.timbercreek-dixon.com/event/dixon-police-outing/
END:VEVENT
BEGIN:VEVENT
DTSTART;TZID=UTC:20240824T100000
DTEND;TZID=UTC:20240824T150000
DTSTAMP:20260425T184553
CREATED:20240409T153833Z
LAST-MODIFIED:20240409T153833Z
UID:10000018-1724493600-1724511600@www.timbercreek-dixon.com
SUMMARY:Dahlquist Outing
DESCRIPTION:
URL:https://www.timbercreek-dixon.com/event/dahlquist-outing/
END:VEVENT
BEGIN:VEVENT
DTSTART;TZID=UTC:20240810T090000
DTEND;TZID=UTC:20240810T150000
DTSTAMP:20260425T184553
CREATED:20240409T153708Z
LAST-MODIFIED:20240409T153708Z
UID:10000016-1723280400-1723302000@www.timbercreek-dixon.com
SUMMARY:Dixon Athletics/Boosters Outing
DESCRIPTION:
URL:https://www.timbercreek-dixon.com/event/dixon-athletics-boosters-outing/
END:VEVENT
BEGIN:VEVENT
DTSTART;TZID=UTC:20240804T090000
DTEND;TZID=UTC:20240804T150000
DTSTAMP:20260425T184553
CREATED:20240409T153620Z
LAST-MODIFIED:20240409T153620Z
UID:10000015-1722762000-1722783600@www.timbercreek-dixon.com
SUMMARY:Newman Baseball (Kutz) Outing
DESCRIPTION:
URL:https://www.timbercreek-dixon.com/event/newman-baseball-kutz-outing/
END:VEVENT
BEGIN:VEVENT
DTSTART;TZID=UTC:20240803T090000
DTEND;TZID=UTC:20240803T150000
DTSTAMP:20260425T184553
CREATED:20240409T153527Z
LAST-MODIFIED:20240409T153527Z
UID:10000014-1722675600-1722697200@www.timbercreek-dixon.com
SUMMARY:Make-A-Wish Outing
DESCRIPTION:
URL:https://www.timbercreek-dixon.com/event/make-a-wish-outing/
END:VEVENT
BEGIN:VEVENT
DTSTART;TZID=UTC:20240802T110000
DTEND;TZID=UTC:20240802T160000
DTSTAMP:20260425T184553
CREATED:20240409T153747Z
LAST-MODIFIED:20240508T115056Z
UID:10000017-1722596400-1722614400@www.timbercreek-dixon.com
SUMMARY:Dixon Park District Outing
DESCRIPTION:
URL:https://www.timbercreek-dixon.com/event/dixon-park-district-outing/
END:VEVENT
BEGIN:VEVENT
DTSTART;TZID=UTC:20240727T090000
DTEND;TZID=UTC:20240727T140000
DTSTAMP:20260425T184553
CREATED:20240409T153446Z
LAST-MODIFIED:20240409T153446Z
UID:10000013-1722070800-1722088800@www.timbercreek-dixon.com
SUMMARY:Granny Rose Outing
DESCRIPTION:
URL:https://www.timbercreek-dixon.com/event/granny-rose-outing/
END:VEVENT
BEGIN:VEVENT
DTSTART;TZID=UTC:20240719T110000
DTEND;TZID=UTC:20240719T160000
DTSTAMP:20260425T184553
CREATED:20240409T153405Z
LAST-MODIFIED:20240409T153405Z
UID:10000012-1721386800-1721404800@www.timbercreek-dixon.com
SUMMARY:Dixie Chamber Golf Outing
DESCRIPTION:
URL:https://www.timbercreek-dixon.com/event/dixie-chamber-golf-outing/
END:VEVENT
BEGIN:VEVENT
DTSTART;TZID=UTC:20240708T090000
DTEND;TZID=UTC:20240708T180000
DTSTAMP:20260425T184553
CREATED:20240409T153323Z
LAST-MODIFIED:20240409T153323Z
UID:10000011-1720429200-1720461600@www.timbercreek-dixon.com
SUMMARY:Northern Seniors Outing (100)
DESCRIPTION:
URL:https://www.timbercreek-dixon.com/event/northern-seniors-outing-100/
END:VEVENT
BEGIN:VEVENT
DTSTART;TZID=UTC:20240701T080000
DTEND;TZID=UTC:20240701T120000
DTSTAMP:20260425T184553
CREATED:20240409T153236Z
LAST-MODIFIED:20240409T153236Z
UID:10000010-1719820800-1719835200@www.timbercreek-dixon.com
SUMMARY:Southern Senior Outing
DESCRIPTION:
URL:https://www.timbercreek-dixon.com/event/southern-senior-outing-2/
END:VEVENT
BEGIN:VEVENT
DTSTART;TZID=UTC:20240615T100000
DTEND;TZID=UTC:20240615T160000
DTSTAMP:20260425T184553
CREATED:20240409T153147Z
LAST-MODIFIED:20240409T153147Z
UID:10000009-1718445600-1718467200@www.timbercreek-dixon.com
SUMMARY:Steve Lendman Memorial Outing
DESCRIPTION:
URL:https://www.timbercreek-dixon.com/event/steve-lendman-memorial-outing/
END:VEVENT
BEGIN:VEVENT
DTSTART;TZID=UTC:20240613T090000
DTEND;TZID=UTC:20240613T150000
DTSTAMP:20260425T184553
CREATED:20240409T153056Z
LAST-MODIFIED:20240409T153056Z
UID:10000008-1718269200-1718290800@www.timbercreek-dixon.com
SUMMARY:Rock River District Outing
DESCRIPTION:
URL:https://www.timbercreek-dixon.com/event/rock-river-district-outing/
END:VEVENT
BEGIN:VEVENT
DTSTART;TZID=UTC:20240608T083000
DTEND;TZID=UTC:20240608T130000
DTSTAMP:20260425T184553
CREATED:20240409T153015Z
LAST-MODIFIED:20240409T153015Z
UID:10000007-1717835400-1717851600@www.timbercreek-dixon.com
SUMMARY:Ladies Lincoln Highway Tryouts - Outing
DESCRIPTION:
URL:https://www.timbercreek-dixon.com/event/ladies-lincoln-highway-tryouts-outing/
END:VEVENT
BEGIN:VEVENT
DTSTART;TZID=UTC:20240607T080000
DTEND;TZID=UTC:20240607T170000
DTSTAMP:20260425T184553
CREATED:20240409T152925Z
LAST-MODIFIED:20240409T152925Z
UID:10000006-1717747200-1717779600@www.timbercreek-dixon.com
SUMMARY:YMCA Outing
DESCRIPTION:
URL:https://www.timbercreek-dixon.com/event/ymca-outing/
END:VEVENT
BEGIN:VEVENT
DTSTART;TZID=UTC:20240601T090000
DTEND;TZID=UTC:20240601T150000
DTSTAMP:20260425T184553
CREATED:20240409T152900Z
LAST-MODIFIED:20240409T152900Z
UID:10000005-1717232400-1717254000@www.timbercreek-dixon.com
SUMMARY:4TH Annual Herwig Outing
DESCRIPTION:
URL:https://www.timbercreek-dixon.com/event/4th-annual-herwig-outing/
END:VEVENT
BEGIN:VEVENT
DTSTART;TZID=UTC:20240518T130000
DTEND;TZID=UTC:20240518T170000
DTSTAMP:20260425T184553
CREATED:20240409T152817Z
LAST-MODIFIED:20240409T152817Z
UID:10000004-1716037200-1716051600@www.timbercreek-dixon.com
SUMMARY:Hermes Outing
DESCRIPTION:
URL:https://www.timbercreek-dixon.com/event/hermes-outing-2/
END:VEVENT
BEGIN:VEVENT
DTSTART;TZID=UTC:20240517T130000
DTEND;TZID=UTC:20240517T170000
DTSTAMP:20260425T184553
CREATED:20240409T152729Z
LAST-MODIFIED:20240409T152729Z
UID:10000003-1715950800-1715965200@www.timbercreek-dixon.com
SUMMARY:Hermes Outing
DESCRIPTION:
URL:https://www.timbercreek-dixon.com/event/hermes-outing/
END:VEVENT
BEGIN:VEVENT
DTSTART;TZID=UTC:20240506T080000
DTEND;TZID=UTC:20240506T120000
DTSTAMP:20260425T184553
CREATED:20240409T152652Z
LAST-MODIFIED:20240409T152652Z
UID:10000002-1714982400-1714996800@www.timbercreek-dixon.com
SUMMARY:Southern Senior Outing
DESCRIPTION:
URL:https://www.timbercreek-dixon.com/event/southern-senior-outing/
END:VEVENT
BEGIN:VEVENT
DTSTART;TZID=UTC:20240409T100000
DTEND;TZID=UTC:20240409T130000
DTSTAMP:20260425T184553
CREATED:20240409T152535Z
LAST-MODIFIED:20240409T152535Z
UID:10000001-1712656800-1712667600@www.timbercreek-dixon.com
SUMMARY:Senior Women's Outing
DESCRIPTION:
URL:https://www.timbercreek-dixon.com/event/senior-womens-outing/
END:VEVENT
END:VCALENDAR