BEGIN:VCALENDAR
VERSION:2.0
PRODID:-//Timber Creek Golf - ECPv6.15.18//NONSGML v1.0//EN
CALSCALE:GREGORIAN
METHOD:PUBLISH
X-ORIGINAL-URL:https://www.timbercreek-dixon.com
X-WR-CALDESC:Events for Timber Creek Golf
REFRESH-INTERVAL;VALUE=DURATION:PT1H
X-Robots-Tag:noindex
X-PUBLISHED-TTL:PT1H
BEGIN:VTIMEZONE
TZID:UTC
BEGIN:STANDARD
TZOFFSETFROM:+0000
TZOFFSETTO:+0000
TZNAME:UTC
DTSTART:20230101T000000
END:STANDARD
END:VTIMEZONE
BEGIN:VEVENT
DTSTART;TZID=UTC:20240607T080000
DTEND;TZID=UTC:20240607T170000
DTSTAMP:20260425T224219
CREATED:20240409T152925Z
LAST-MODIFIED:20240409T152925Z
UID:10000006-1717747200-1717779600@www.timbercreek-dixon.com
SUMMARY:YMCA Outing
DESCRIPTION:
URL:https://www.timbercreek-dixon.com/event/ymca-outing/
END:VEVENT
BEGIN:VEVENT
DTSTART;TZID=UTC:20240601T090000
DTEND;TZID=UTC:20240601T150000
DTSTAMP:20260425T224219
CREATED:20240409T152900Z
LAST-MODIFIED:20240409T152900Z
UID:10000005-1717232400-1717254000@www.timbercreek-dixon.com
SUMMARY:4TH Annual Herwig Outing
DESCRIPTION:
URL:https://www.timbercreek-dixon.com/event/4th-annual-herwig-outing/
END:VEVENT
BEGIN:VEVENT
DTSTART;TZID=UTC:20240518T130000
DTEND;TZID=UTC:20240518T170000
DTSTAMP:20260425T224219
CREATED:20240409T152817Z
LAST-MODIFIED:20240409T152817Z
UID:10000004-1716037200-1716051600@www.timbercreek-dixon.com
SUMMARY:Hermes Outing
DESCRIPTION:
URL:https://www.timbercreek-dixon.com/event/hermes-outing-2/
END:VEVENT
BEGIN:VEVENT
DTSTART;TZID=UTC:20240517T130000
DTEND;TZID=UTC:20240517T170000
DTSTAMP:20260425T224219
CREATED:20240409T152729Z
LAST-MODIFIED:20240409T152729Z
UID:10000003-1715950800-1715965200@www.timbercreek-dixon.com
SUMMARY:Hermes Outing
DESCRIPTION:
URL:https://www.timbercreek-dixon.com/event/hermes-outing/
END:VEVENT
BEGIN:VEVENT
DTSTART;TZID=UTC:20240506T080000
DTEND;TZID=UTC:20240506T120000
DTSTAMP:20260425T224219
CREATED:20240409T152652Z
LAST-MODIFIED:20240409T152652Z
UID:10000002-1714982400-1714996800@www.timbercreek-dixon.com
SUMMARY:Southern Senior Outing
DESCRIPTION:
URL:https://www.timbercreek-dixon.com/event/southern-senior-outing/
END:VEVENT
BEGIN:VEVENT
DTSTART;TZID=UTC:20240409T100000
DTEND;TZID=UTC:20240409T130000
DTSTAMP:20260425T224219
CREATED:20240409T152535Z
LAST-MODIFIED:20240409T152535Z
UID:10000001-1712656800-1712667600@www.timbercreek-dixon.com
SUMMARY:Senior Women's Outing
DESCRIPTION:
URL:https://www.timbercreek-dixon.com/event/senior-womens-outing/
END:VEVENT
END:VCALENDAR